BEGIN:VCALENDAR
VERSION:2.0
PRODID:-//Synchro Stars - ECPv6.15.20//NONSGML v1.0//EN
CALSCALE:GREGORIAN
METHOD:PUBLISH
X-WR-CALNAME:Synchro Stars
X-ORIGINAL-URL:https://synchrostars.org
X-WR-CALDESC:Events for Synchro Stars
REFRESH-INTERVAL;VALUE=DURATION:PT1H
X-Robots-Tag:noindex
X-PUBLISHED-TTL:PT1H
BEGIN:VTIMEZONE
TZID:America/New_York
BEGIN:DAYLIGHT
TZOFFSETFROM:-0500
TZOFFSETTO:-0400
TZNAME:EDT
DTSTART:20220313T070000
END:DAYLIGHT
BEGIN:STANDARD
TZOFFSETFROM:-0400
TZOFFSETTO:-0500
TZNAME:EST
DTSTART:20221106T060000
END:STANDARD
BEGIN:DAYLIGHT
TZOFFSETFROM:-0500
TZOFFSETTO:-0400
TZNAME:EDT
DTSTART:20230312T070000
END:DAYLIGHT
BEGIN:STANDARD
TZOFFSETFROM:-0400
TZOFFSETTO:-0500
TZNAME:EST
DTSTART:20231105T060000
END:STANDARD
BEGIN:DAYLIGHT
TZOFFSETFROM:-0500
TZOFFSETTO:-0400
TZNAME:EDT
DTSTART:20240310T070000
END:DAYLIGHT
BEGIN:STANDARD
TZOFFSETFROM:-0400
TZOFFSETTO:-0500
TZNAME:EST
DTSTART:20241103T060000
END:STANDARD
END:VTIMEZONE
BEGIN:VEVENT
DTSTART;TZID=America/New_York:20230806T152000
DTEND;TZID=America/New_York:20230806T161000
DTSTAMP:20260420T061510
CREATED:20230603T193512Z
LAST-MODIFIED:20230603T193512Z
UID:19785-1691335200-1691338200@synchrostars.org
SUMMARY:Aspire Skills Clinic
DESCRIPTION:Come learn the elements of Synchronized Skating.  We welcome skaters Learn to Skate Basic 4 through Pre-Preliminary Moves in the Field. \nCost:  $180 for 4 weeks. \nRegister here
URL:https://synchrostars.org/event/aspire-skills-clinic/
LOCATION:Conway Arena\, 5 Stadium Drive\, Nashua\, NH\, United States
CATEGORIES:Featured
ATTACH;FMTTYPE=image/jpeg:https://synchrostars.org/wp-content/uploads/2023/06/BOBG_3407-scaled-e1685820765876.jpg
END:VEVENT
END:VCALENDAR