BEGIN:VCALENDAR
VERSION:2.0
PRODID:-//Synchro Stars - ECPv6.15.20//NONSGML v1.0//EN
CALSCALE:GREGORIAN
METHOD:PUBLISH
X-WR-CALNAME:Synchro Stars
X-ORIGINAL-URL:https://synchrostars.org
X-WR-CALDESC:Events for Synchro Stars
REFRESH-INTERVAL;VALUE=DURATION:PT1H
X-Robots-Tag:noindex
X-PUBLISHED-TTL:PT1H
BEGIN:VTIMEZONE
TZID:America/New_York
BEGIN:DAYLIGHT
TZOFFSETFROM:-0500
TZOFFSETTO:-0400
TZNAME:EDT
DTSTART:20210314T070000
END:DAYLIGHT
BEGIN:STANDARD
TZOFFSETFROM:-0400
TZOFFSETTO:-0500
TZNAME:EST
DTSTART:20211107T060000
END:STANDARD
BEGIN:DAYLIGHT
TZOFFSETFROM:-0500
TZOFFSETTO:-0400
TZNAME:EDT
DTSTART:20220313T070000
END:DAYLIGHT
BEGIN:STANDARD
TZOFFSETFROM:-0400
TZOFFSETTO:-0500
TZNAME:EST
DTSTART:20221106T060000
END:STANDARD
BEGIN:DAYLIGHT
TZOFFSETFROM:-0500
TZOFFSETTO:-0400
TZNAME:EDT
DTSTART:20230312T070000
END:DAYLIGHT
BEGIN:STANDARD
TZOFFSETFROM:-0400
TZOFFSETTO:-0500
TZNAME:EST
DTSTART:20231105T060000
END:STANDARD
END:VTIMEZONE
BEGIN:VEVENT
DTSTART;VALUE=DATE:20220322
DTEND;VALUE=DATE:20220401
DTSTAMP:20260421T062737
CREATED:20220318T230352Z
LAST-MODIFIED:20220318T230451Z
UID:19431-1647907200-1648771199@synchrostars.org
SUMMARY:The Draft Sports Bar supporting Synchro Stars
DESCRIPTION:The Draft Sports Bar in Concord\, NH is supporting Synchro Stars March 22 – 31. We encourage all to enjoy a night out at their fun venue during this time. \nWhat better place to watch March Madness?!?
URL:https://synchrostars.org/event/the-draft-sports-bar-supporting-synchro-stars/
LOCATION:The Draft Sports Bar\, 67 S Main St\, Concord\, New Hampshire\, 03301
CATEGORIES:Family Fun,Featured
ATTACH;FMTTYPE=image/jpeg:https://synchrostars.org/wp-content/uploads/2022/03/251378894_256510036494024_7269213184923265121_n.jpeg
END:VEVENT
END:VCALENDAR