BEGIN:VCALENDAR
VERSION:2.0
PRODID:-//Synchro Stars - ECPv6.15.20//NONSGML v1.0//EN
CALSCALE:GREGORIAN
METHOD:PUBLISH
X-ORIGINAL-URL:https://synchrostars.org
X-WR-CALDESC:Events for Synchro Stars
REFRESH-INTERVAL;VALUE=DURATION:PT1H
X-Robots-Tag:noindex
X-PUBLISHED-TTL:PT1H
BEGIN:VTIMEZONE
TZID:America/New_York
BEGIN:DAYLIGHT
TZOFFSETFROM:-0500
TZOFFSETTO:-0400
TZNAME:EDT
DTSTART:20210314T070000
END:DAYLIGHT
BEGIN:STANDARD
TZOFFSETFROM:-0400
TZOFFSETTO:-0500
TZNAME:EST
DTSTART:20211107T060000
END:STANDARD
BEGIN:DAYLIGHT
TZOFFSETFROM:-0500
TZOFFSETTO:-0400
TZNAME:EDT
DTSTART:20220313T070000
END:DAYLIGHT
BEGIN:STANDARD
TZOFFSETFROM:-0400
TZOFFSETTO:-0500
TZNAME:EST
DTSTART:20221106T060000
END:STANDARD
BEGIN:DAYLIGHT
TZOFFSETFROM:-0500
TZOFFSETTO:-0400
TZNAME:EDT
DTSTART:20230312T070000
END:DAYLIGHT
BEGIN:STANDARD
TZOFFSETFROM:-0400
TZOFFSETTO:-0500
TZNAME:EST
DTSTART:20231105T060000
END:STANDARD
BEGIN:DAYLIGHT
TZOFFSETFROM:-0500
TZOFFSETTO:-0400
TZNAME:EDT
DTSTART:20240310T070000
END:DAYLIGHT
BEGIN:STANDARD
TZOFFSETFROM:-0400
TZOFFSETTO:-0500
TZNAME:EST
DTSTART:20241103T060000
END:STANDARD
BEGIN:DAYLIGHT
TZOFFSETFROM:-0500
TZOFFSETTO:-0400
TZNAME:EDT
DTSTART:20250309T070000
END:DAYLIGHT
BEGIN:STANDARD
TZOFFSETFROM:-0400
TZOFFSETTO:-0500
TZNAME:EST
DTSTART:20251102T060000
END:STANDARD
END:VTIMEZONE
BEGIN:VEVENT
DTSTART;TZID=America/New_York:20240128T180000
DTEND;TZID=America/New_York:20240128T200000
DTSTAMP:20260420T061105
CREATED:20240122T023746Z
LAST-MODIFIED:20240122T023958Z
UID:19948-1706464800-1706472000@synchrostars.org
SUMMARY:Synchro Stars "Skate with the Stars" Exhibition
DESCRIPTION:All are welcome to our end-of-season exhibition.  Watch our 2023-2024 teams perform one last time\, see our skaters perform solos and group numbers\, and test your aim at Chuck-a-Duck.  Lots of skating and lots of fun!
URL:https://synchrostars.org/event/synchro-stars-exhibition-jan-28/
LOCATION:Conway Arena\, 5 Stadium Drive\, Nashua\, NH\, United States
CATEGORIES:Family Fun,Featured
ATTACH;FMTTYPE=image/png:https://synchrostars.org/wp-content/uploads/2024/01/Synchro-Stars-Exhibition-Facebook-Cover-1600-x-400-px.png
ORGANIZER;CN="Synchro Stars Synchronized Skating Teams":MAILTO:hello@synchrostars
END:VEVENT
BEGIN:VEVENT
DTSTART;TZID=America/New_York:20230205T180000
DTEND;TZID=America/New_York:20230205T200000
DTSTAMP:20260420T061105
CREATED:20230130T133220Z
LAST-MODIFIED:20230130T133220Z
UID:19727-1675620000-1675627200@synchrostars.org
SUMMARY:Synchro Stars Exhibition
DESCRIPTION:All are welcome to our end-of-season exhibition.  Watch our 2022-23 teams perform one last time\, see our skaters perform solos and group numbers\, engage in a pick-up hockey game and test your aim at Chuck-a-Duck.  Lots of skating and lots of fun!
URL:https://synchrostars.org/event/synchro-stars-exhibition-2/
LOCATION:Conway Arena\, 5 Stadium Drive\, Nashua\, NH\, United States
CATEGORIES:Family Fun,Featured
ATTACH;FMTTYPE=image/png:https://synchrostars.org/wp-content/uploads/2023/01/Results-Bulletin-Board-4.png
ORGANIZER;CN="Synchro Stars Synchronized Skating Teams":MAILTO:hello@synchrostars
END:VEVENT
BEGIN:VEVENT
DTSTART;VALUE=DATE:20220322
DTEND;VALUE=DATE:20220401
DTSTAMP:20260420T061105
CREATED:20220318T230352Z
LAST-MODIFIED:20220318T230451Z
UID:19431-1647907200-1648771199@synchrostars.org
SUMMARY:The Draft Sports Bar supporting Synchro Stars
DESCRIPTION:The Draft Sports Bar in Concord\, NH is supporting Synchro Stars March 22 – 31. We encourage all to enjoy a night out at their fun venue during this time. \nWhat better place to watch March Madness?!?
URL:https://synchrostars.org/event/the-draft-sports-bar-supporting-synchro-stars/
LOCATION:The Draft Sports Bar\, 67 S Main St\, Concord\, New Hampshire\, 03301
CATEGORIES:Family Fun,Featured
ATTACH;FMTTYPE=image/jpeg:https://synchrostars.org/wp-content/uploads/2022/03/251378894_256510036494024_7269213184923265121_n.jpeg
END:VEVENT
END:VCALENDAR