BEGIN:VCALENDAR
VERSION:2.0
PRODID:-//Synchro Stars - ECPv6.15.20//NONSGML v1.0//EN
CALSCALE:GREGORIAN
METHOD:PUBLISH
X-WR-CALNAME:Synchro Stars
X-ORIGINAL-URL:https://synchrostars.org
X-WR-CALDESC:Events for Synchro Stars
REFRESH-INTERVAL;VALUE=DURATION:PT1H
X-Robots-Tag:noindex
X-PUBLISHED-TTL:PT1H
BEGIN:VTIMEZONE
TZID:America/New_York
BEGIN:DAYLIGHT
TZOFFSETFROM:-0500
TZOFFSETTO:-0400
TZNAME:EDT
DTSTART:20210314T070000
END:DAYLIGHT
BEGIN:STANDARD
TZOFFSETFROM:-0400
TZOFFSETTO:-0500
TZNAME:EST
DTSTART:20211107T060000
END:STANDARD
BEGIN:DAYLIGHT
TZOFFSETFROM:-0500
TZOFFSETTO:-0400
TZNAME:EDT
DTSTART:20220313T070000
END:DAYLIGHT
BEGIN:STANDARD
TZOFFSETFROM:-0400
TZOFFSETTO:-0500
TZNAME:EST
DTSTART:20221106T060000
END:STANDARD
BEGIN:DAYLIGHT
TZOFFSETFROM:-0500
TZOFFSETTO:-0400
TZNAME:EDT
DTSTART:20230312T070000
END:DAYLIGHT
BEGIN:STANDARD
TZOFFSETFROM:-0400
TZOFFSETTO:-0500
TZNAME:EST
DTSTART:20231105T060000
END:STANDARD
END:VTIMEZONE
BEGIN:VEVENT
DTSTART;TZID=America/New_York:20220421T190000
DTEND;TZID=America/New_York:20220421T200000
DTSTAMP:20260420T054733
CREATED:20220209T230616Z
LAST-MODIFIED:20220221T002128Z
UID:19350-1650567600-1650571200@synchrostars.org
SUMMARY:Join Synchro Stars Info Session
DESCRIPTION:Parents & Skaters are welcome to call into an information session to get all your questions answered! \nGoogle Meet joining info\nVideo call link: https://meet.google.com/jrk-gfew-vcu\nOr dial: ‪(US) +1 443-574-7989‬ PIN: ‪894 319 387‬#\nMore phone numbers: https://tel.meet/jrk-gfew-vcu?pin=4392885880151 \n\n\n\n 
URL:https://synchrostars.org/event/join-synchro-stars-info-session-4/
LOCATION:Google Meet Call
CATEGORIES:Featured,Information Sessions
ATTACH;FMTTYPE=image/jpeg:https://synchrostars.org/wp-content/uploads/2022/02/InformationSessionSIgn.jpeg
ORGANIZER;CN="Synchro Stars Synchronized Skating Teams":MAILTO:hello@synchrostars
END:VEVENT
END:VCALENDAR