BEGIN:VCALENDAR
VERSION:2.0
PRODID:-//Synchro Stars - ECPv6.15.20//NONSGML v1.0//EN
CALSCALE:GREGORIAN
METHOD:PUBLISH
X-WR-CALNAME:Synchro Stars
X-ORIGINAL-URL:https://synchrostars.org
X-WR-CALDESC:Events for Synchro Stars
REFRESH-INTERVAL;VALUE=DURATION:PT1H
X-Robots-Tag:noindex
X-PUBLISHED-TTL:PT1H
BEGIN:VTIMEZONE
TZID:America/New_York
BEGIN:DAYLIGHT
TZOFFSETFROM:-0500
TZOFFSETTO:-0400
TZNAME:EDT
DTSTART:20210314T070000
END:DAYLIGHT
BEGIN:STANDARD
TZOFFSETFROM:-0400
TZOFFSETTO:-0500
TZNAME:EST
DTSTART:20211107T060000
END:STANDARD
BEGIN:DAYLIGHT
TZOFFSETFROM:-0500
TZOFFSETTO:-0400
TZNAME:EDT
DTSTART:20220313T070000
END:DAYLIGHT
BEGIN:STANDARD
TZOFFSETFROM:-0400
TZOFFSETTO:-0500
TZNAME:EST
DTSTART:20221106T060000
END:STANDARD
BEGIN:DAYLIGHT
TZOFFSETFROM:-0500
TZOFFSETTO:-0400
TZNAME:EDT
DTSTART:20230312T070000
END:DAYLIGHT
BEGIN:STANDARD
TZOFFSETFROM:-0400
TZOFFSETTO:-0500
TZNAME:EST
DTSTART:20231105T060000
END:STANDARD
END:VTIMEZONE
BEGIN:VEVENT
DTSTART;TZID=America/New_York:20220108T143000
DTEND;TZID=America/New_York:20220108T220000
DTSTAMP:20260421T093051
CREATED:20220102T225713Z
LAST-MODIFIED:20220102T231434Z
UID:18819-1641652200-1641679200@synchrostars.org
SUMMARY:Colonial Synchro Classic
DESCRIPTION:Come Cheer Synchro Stars!   \nPre-Juvenile flight A 2:30 – 3:30pm.  Open Juvenile flight B 9:30 – 10:30pm. \nTickets must be purchased in advance.   Purchase Tickets Here
URL:https://synchrostars.org/event/colonial-synchro-classic/
LOCATION:Tsongas Arena\, 300 Arcand Drive\, Lowell\, MA\, 01852\, United States
CATEGORIES:Competition,Featured
ATTACH;FMTTYPE=image/webp:https://synchrostars.org/wp-content/uploads/2022/01/2022-Colonial-Classic.webp
END:VEVENT
END:VCALENDAR