BEGIN:VCALENDAR
VERSION:2.0
PRODID:-//Synchro Stars - ECPv6.15.20//NONSGML v1.0//EN
CALSCALE:GREGORIAN
METHOD:PUBLISH
X-ORIGINAL-URL:https://synchrostars.org
X-WR-CALDESC:Events for Synchro Stars
REFRESH-INTERVAL;VALUE=DURATION:PT1H
X-Robots-Tag:noindex
X-PUBLISHED-TTL:PT1H
BEGIN:VTIMEZONE
TZID:America/New_York
BEGIN:DAYLIGHT
TZOFFSETFROM:-0500
TZOFFSETTO:-0400
TZNAME:EDT
DTSTART:20240310T070000
END:DAYLIGHT
BEGIN:STANDARD
TZOFFSETFROM:-0400
TZOFFSETTO:-0500
TZNAME:EST
DTSTART:20241103T060000
END:STANDARD
BEGIN:DAYLIGHT
TZOFFSETFROM:-0500
TZOFFSETTO:-0400
TZNAME:EDT
DTSTART:20250309T070000
END:DAYLIGHT
BEGIN:STANDARD
TZOFFSETFROM:-0400
TZOFFSETTO:-0500
TZNAME:EST
DTSTART:20251102T060000
END:STANDARD
BEGIN:DAYLIGHT
TZOFFSETFROM:-0500
TZOFFSETTO:-0400
TZNAME:EDT
DTSTART:20260308T070000
END:DAYLIGHT
BEGIN:STANDARD
TZOFFSETFROM:-0400
TZOFFSETTO:-0500
TZNAME:EST
DTSTART:20261101T060000
END:STANDARD
END:VTIMEZONE
BEGIN:VEVENT
DTSTART;TZID=America/New_York:20250316T175000
DTEND;TZID=America/New_York:20250316T185000
DTSTAMP:20260420T120430
CREATED:20250119T142034Z
LAST-MODIFIED:20250210T193056Z
UID:20180-1742147400-1742151000@synchrostars.org
SUMMARY:SYNCHRO STARS PLACEMENTS - INTERMEDIATE
DESCRIPTION:BECOME A SYNCHRO STAR!! \nWe welcome you to skate with our teams! \nPlacements for Intermediate Team is on MARCH 16 & MARCH 23 @ 5:50-6:50PM.  While not mandatory\, we strongly encourage attendance at both sessions.  All sessions will be at Conway Arena in Nashua\, NH \n$50 Try-out fee.  Fee covers both sessions \nMust be 19 or younger and have passed Pre-Silver (INT) Skating Skills* \n*Skaters who have not passed this level may try out if they are testing by/before June 1st\, 2025 \nPlease arrive at least 15 minutes early to sign-up\, sign a waiver and get your skates on! \nSEE YOU THERE!
URL:https://synchrostars.org/event/synchro-stars-tryouts-int-2025-03-16-2/
LOCATION:Conway Arena\, 5 Stadium Drive\, Nashua\, NH\, United States
CATEGORIES:Featured,Tryouts
ATTACH;FMTTYPE=image/jpeg:https://synchrostars.org/wp-content/uploads/2025/01/DSC_7090-scaled.jpg
ORGANIZER;CN="Synchro Stars Synchronized Skating Teams":MAILTO:hello@synchrostars
END:VEVENT
BEGIN:VEVENT
DTSTART;TZID=America/New_York:20250323T164000
DTEND;TZID=America/New_York:20250323T174000
DTSTAMP:20260420T120430
CREATED:20250119T142019Z
LAST-MODIFIED:20250210T193223Z
UID:20187-1742748000-1742751600@synchrostars.org
SUMMARY:SYNCHRO STARS PLACEMENTS - PRE-JUVENILE
DESCRIPTION:BECOME A SYNCHRO STAR!! \nWe welcome you to skate with our teams! \nPlacements for our Pre-Juvenile are on MARCH 16 & MARCH 23 @ 4:50-5:50PM.  While not mandatory\, we strongly encourage attendance at both sessions.  All sessions will be at Conway Arena in Nashua\, NH \n$50 Try-out fee.  Fee covers both sessions \nMust be 17 or younger and have passed Pre-Bronze (Pre-Juv) Skating Skills* \nSkaters who have not passed this level may try out if they are testing by/before June 1st\, 2025 \nPlease arrive at least 15 minutes early to sign-up\, sign a waiver and get your skates on! \nSEE YOU THERE!
URL:https://synchrostars.org/event/synchro-stars-tryouts-pj-2025-03-23-2/
LOCATION:Conway Arena\, 5 Stadium Drive\, Nashua\, NH\, United States
CATEGORIES:Featured,Tryouts
ATTACH;FMTTYPE=image/jpeg:https://synchrostars.org/wp-content/uploads/2025/01/D45_6167-scaled.jpg
ORGANIZER;CN="Synchro Stars Synchronized Skating Teams":MAILTO:hello@synchrostars
END:VEVENT
BEGIN:VEVENT
DTSTART;TZID=America/New_York:20250323T175000
DTEND;TZID=America/New_York:20250323T185000
DTSTAMP:20260420T120430
CREATED:20250119T141958Z
LAST-MODIFIED:20250210T193023Z
UID:20185-1742752200-1742755800@synchrostars.org
SUMMARY:SYNCHRO STARS PLACEMENTS - INTERMEDIATE
DESCRIPTION:BECOME A SYNCHRO STAR!! \nWe welcome you to skate with our teams! \nPlacements for our Intermediate Team are on MARCH 16 & MARCH 23 @ 5:50-6:50PM.  While not mandatory\, we strongly encourage attendance at both sessions.  All sessions will be at Conway Arena in Nashua\, NH \n$50 Try-out fee.  Fee covers both sessions \nMust be 19 or younger and have passed Pre-Silver (INT) Skating Skills* \n*Skaters who have not passed this level may try out if they are testing by/before June 1st\, 2025 \nPlease arrive at least 15 minutes early to sign-up\, sign a waiver and get your skates on! \nSEE YOU THERE!
URL:https://synchrostars.org/event/synchro-stars-tryouts-int-2025-03-23-2/
LOCATION:Conway Arena\, 5 Stadium Drive\, Nashua\, NH\, United States
CATEGORIES:Featured,Tryouts
ATTACH;FMTTYPE=image/jpeg:https://synchrostars.org/wp-content/uploads/2025/01/DSC_7090-scaled.jpg
ORGANIZER;CN="Synchro Stars Synchronized Skating Teams":MAILTO:hello@synchrostars
END:VEVENT
END:VCALENDAR